Workbook
Name Employees: Employees!$A$6:$G$200

Sheet Instructions
A1: Instructions
A2: NOTE: Start by saving this document and filling in the name with the appopriate Disaster Number, Applicant name, and PW Number. NOTE: Some tabs in the spreadsheet should be filled out, while other tabs should be left blank. Please see below for instructions for each tab.
A3: PRE-POPULATED TABS (TABS THAT DO NOT NEED TO BE FILLED OUT)
A4: Tab | B4: Instructions
A5: Summary | B5: This is the summary tab. Totals from each ost type tab are pulled into this tab and summarized.
A6: 2015-2019 FEMA Equip Rates | B6: These tabs contain the FEMA equipment rates. When inputting equipment into the FA tab, rates from the year selected will automatically be appear once the type of equipment is inputted.
A7: DATA INPUT TABS (FOR WHATEVER KIND OF COST YOU HAVE EXPENDED, FILL OUT THE CORRESPONDING TAB)
A8: Tab | B8: Instructions
A9: Support Docs Checklist | B9: This tab should be used as a tool to ensure you are providing all the backup documentation required to support cost documentation.
A10: Employees | B10: Fill this tab out if you are claiming Force Account Labor. This tab will act an employee roster containing names, titles, fringe benefit rates, and regular and overtime rates. This information will feed into the FA tab.
A11: Contract - Invoices | B11: Fill this tab out if you are claiming Contract Invoices. This tab will itemize all of your contract invoices. Enter the required information for each invoice being claimed.
A12: FA | B12: Fill this tab out if you are claiming Force Account Labor. This tab will itemize each of your employees work records and equipment logs. Select the employee from the drop down, enter the amount of hours worked, and select if the hours worked were Regular or Overtime. If the employee was operating a piece of equipment, first select the FEMA equipment rate year, then select the equipment code from the drop down, and finally enter the number of hours the equipment was used for. Note that if the number of equipment hours exceeds the number of labor hours, the cells will fill red. This is because most equipment requires a laborer to operate it.
A13: Materials | B13: Fill this tab out if you are claiming purchsed Materials. This tab will itemize each material purchase made. Enter the required informatinon for each invoice being claimed.
A14: Equipment Rental | B14: Fill this tab out if you are claiming Rented Equipment. This tab will itemize each rental invoice paid. Enter the required information for each invoice being claimed.
A15: DAC | B15: Fill this tab out oif you are claiming Direct Administrative Costs. Itemize FA Labor records for work directly related to the administration of the PA Grant for this project specifically. Please note that any Category Z costs for DRs 4344 or later should be captured in a seperate Category Z PW.
A16: Insurance | B16: Fill this tab out if there are Insurance Reductions within your Project. Itemize each insurance payment made including the date, insurance provider, policy number, description, deductible, and total proceeds received.

Sheet Summary
A1: Disaster XXXX
A2: Applicant Name | B2: =MID(CELL("filename"),SEARCH("[",CELL("filename"))+9, SEARCH("]",CELL("filename"))-SEARCH("[",CELL("filename"))-31) -> #VALUE!
A3: PW YYYY
A4: Summary
A5: ='Contract - Invoices'!E5 -> 0 | B5: Contract / Invoices
A6: =FA!$H$5 -> 0 | B6: Force Account Labor
A7: =FA!$O$5 -> 0 | B7: Force Account Equipment
A8: =Materials!F6 -> 0 | B8: Materials
A9: ='Equipment Rental'!F6 -> 0 | B9: Equipment Rental
A10: =DAC!I6 -> 0 | B10: Direct Administrative Costs (DAC)
A11: =Insurance!G6 -> 0 | B11: Insurance (Deductable - Proceeds)
A15: =SUM(A5:A14) -> 0 | B15: Total Verified Cost
A20: Force Account Breakout
A21: =FA!$H$6 -> 0 | B21: Force Account Labor Regular
A22: =FA!$H$7 -> 0 | B22: Force Account Labor Overtime
A24: =FA!$C$5 -> 0 | B24: Force Account Labor Hours
A25: =FA!$K$5 -> 0 | B25: Force Account Equipment Hours

Sheet Supporting Docs Checklist
B1: The Applicant should submit the following to support costs claimed (not an all-inclusive list) | C1: Comments
A2: Force Account Labor
B3: Name
B4: Job title and function
B5: Type of employee (i.e., full-time exempt, full-time non-exempt, part-time, temporary, prisoner, etc.)
B6: Days and hours worked
B7: Pay rate(s) and fringe benefit rate(s)
B8: Description of work performed with representative sample of daily logs / activity reports, if available
B9: Pay policy
A10: Applicant-Owned (Force Account) Equipment
B11: Proof of Payment
A12: For each piece of equipment:
B13: Type of equipment and attachments used, including year, make, and model Size/capacity (e.g., horsepower, wattage)
B14: Locations and days and hours used with usage logs Operator name
B15: Schedule of rates, including rate components
A16: Rented or Purchased Equipment:
B17: Rental or lease agreements, invoices, receipts Days used
A18: Supplies from Stock:
B19: Historical cost records Inventory records
B20: Type of supplies and quantities used, with support documentation such as daily logs
A21: Purchased Supplies:
B22: Receipts or invoices
B23: Proof of Payment
B24: Burn Rate Tracker
A25: Contracts:
B26: Procurement policy Procurement and bid documents
B27: For procurements in excess of the simplified acquisition threshold, a cost/price analysis
B28: Contracts
B29: Invoices
B30: Dates worked
B31: Proof of Payment
A32: Mutual aid:
B33: Written agreement
B34: Services requested and received
B35: Same information listed for labor, equipment, and supplies above (as applicable)
B36: Invoices
A37: Donated Labor:
B38: For each individual: Name
B39: Days and hours worked
B40: Location of work and work performed Equipment:
...

Sheet Employees
A1: =Summary!A1 -> Disaster XXXX | I1: Instructions
A2: =Summary!A2 -> Applicant Name | I2: Fill out the rows with each employee's Name. Title, Base Rate, Benefit Percentage, and Overtime Benefit Percentage. This will pre-populate fields on other tabs
A3: =Summary!A3 -> PW YYYY
A4: Applicant Employees
A5: Name | B5: Title | C5: Rate | D5: Fringe Benefit (%) | E5: Benefits ($) | F5: O/T Fringe Benefit (%) | G5: O/T Benefits ($)
E6: =C6*D6 -> 0 | G6: =(C6*1.5)*F6 -> 0
E7: =C7*D7 -> 0 | G7: =(C7*1.5)*F7 -> 0
E8: =C8*D8 -> 0 | G8: =(C8*1.5)*F8 -> 0
E9: =C9*D9 -> 0 | G9: =(C9*1.5)*F9 -> 0
E10: =C10*D10 -> 0 | G10: =(C10*1.5)*F10 -> 0
E11: =C11*D11 -> 0 | G11: =(C11*1.5)*F11 -> 0
E12: =C12*D12 -> 0 | G12: =(C12*1.5)*F12 -> 0
E13: =C13*D13 -> 0 | G13: =(C13*1.5)*F13 -> 0
E14: =C14*D14 -> 0 | G14: =(C14*1.5)*F14 -> 0
E15: =C15*D15 -> 0 | G15: =(C15*1.5)*F15 -> 0
E16: =C16*D16 -> 0 | G16: =(C16*1.5)*F16 -> 0
E17: =C17*D17 -> 0 | G17: =(C17*1.5)*F17 -> 0
... E200: =C200*D200 -> 0 | G200: =(C200*1.5)*F200 -> 0

Sheet Contract - Invoices
A1: =Summary!$A$1 -> Disaster XXXX
A2: =Summary!$A$2 -> Applicant Name
A3: =Summary!$A$3 -> PW YYYY
A4: Contract Costs
D5: Total Contract Costs | E5: =SUM(E7:E1000) -> 0
A6: Invoice Date | B6: Invoice # | C6: Vendor | D6: Description | E6: Invoice Amount

Sheet FA
A1: =Summary!$A$1 -> Disaster XXXX
A2: =Summary!$A$2 -> Applicant Name
A3: =Summary!$A$3 -> PW YYYY
A4: Force Account Labor & Equipment
A5: FA Labor Hours Total | C5: =SUM($C$10:$C$1000) -> 0 | E5: FA Labor Total | H5: =SUM($H$10:$H$1000) -> 0 | I5: Equipment Hours Total | K5: =SUM($K$10:$K$1000) -> 0 | M5: FA Equipment Total | O5: =SUM($O$10:$O$1000) -> 0
E6: FA Labor Regular Total | H6: =SUMIF($D$10:$D$1000,"Regular",$H$10:$H$1000) -> 0
E7: FA Labor Overtime Total | H7: =SUMIF($D$10:$D$1000,"Overtime",$H$10:$H$1000) -> 0
C8: Overtime Percentage | E8: 1.5 | J8: 2019 | K8: : FEMA Equipment Rates
A9: Date | B9: Name | C9: Hours | D9: Reg / OT | E9: Base Rate | F9: Benefits | G9: Total Rate | H9: Gross | J9: Equip Code | K9: Hours or Miles | L9: Units | M9: Description | N9: Equip Cost | O9: Equip Total
E10: =IF(ISNA(VLOOKUP($B10,Employees,3,FALSE)),"",VLOOKUP($B10,Employees,3,FALSE)) | F10: =IF(ISNA(VLOOKUP($B10,Employees,5,FALSE)),"",IF($D10="Overtime",VLOOKUP($B10,Employees,7,FALSE),VLOOKUP($B10,Employees,5,FALSE))) | G10: =IF(ISERROR(E10+F10),"",IF($D10="Overtime",($E10*$E$8)+$F10,$E10+$F10)) | H10: =IF(ISERROR($C10*$G10),"",$C10*$G10) | L10: =IF(ISNA(VLOOKUP($J10,FEMArates,2,FALSE)),"",VLOOKUP($J10,FEMArates,7,FALSE)) | M10: =IF(ISNA(VLOOKUP($J10,FEMArates,2,FALSE)),"",VLOOKUP($J10,FEMArates,2,FALSE)) | N10: =IF(ISNA(VLOOKUP($J10,FEMArates,8,FALSE)),"",VLOOKUP($J10,FEMArates,8,FALSE)) | O10: =IF(ISERROR($K10*$N10),"",$K10*$N10)
E11: =IF(ISNA(VLOOKUP($B11,Employees,3,FALSE)),"",VLOOKUP($B11,Employees,3,FALSE)) | F11: =IF(ISNA(VLOOKUP($B11,Employees,5,FALSE)),"",IF($D11="Overtime",VLOOKUP($B11,Employees,7,FALSE),VLOOKUP($B11,Employees,5,FALSE))) | G11: =IF(ISERROR(E11+F11),"",IF($D11="Overtime",($E11*$E$8)+$F11,$E11+$F11)) | H11: =IF(ISERROR($C11*$G11),"",$C11*$G11) | L11: =IF(ISNA(VLOOKUP($J11,FEMArates,2,FALSE)),"",VLOOKUP($J11,FEMArates,7,FALSE)) | M11: =IF(ISNA(VLOOKUP($J11,FEMArates,2,FALSE)),"",VLOOKUP($J11,FEMArates,2,FALSE)) | N11: =IF(ISNA(VLOOKUP($J11,FEMArates,8,FALSE)),"",VLOOKUP($J11,FEMArates,8,FALSE)) | O11: =IF(ISERROR($K11*$N11),"",$K11*$N11)
E12: =IF(ISNA(VLOOKUP($B12,Employees,3,FALSE)),"",VLOOKUP($B12,Employees,3,FALSE)) | F12: =IF(ISNA(VLOOKUP($B12,Employees,5,FALSE)),"",IF($D12="Overtime",VLOOKUP($B12,Employees,7,FALSE),VLOOKUP($B12,Employees,5,FALSE))) | G12: =IF(ISERROR(E12+F12),"",IF($D12="Overtime",($E12*$E$8)+$F12,$E12+$F12)) | H12: =IF(ISERROR($C12*$G12),"",$C12*$G12) | L12: =IF(ISNA(VLOOKUP($J12,FEMArates,2,FALSE)),"",VLOOKUP($J12,FEMArates,7,FALSE)) | M12: =IF(ISNA(VLOOKUP($J12,FEMArates,2,FALSE)),"",VLOOKUP($J12,FEMArates,2,FALSE)) | N12: =IF(ISNA(VLOOKUP($J12,FEMArates,8,FALSE)),"",VLOOKUP($J12,FEMArates,8,FALSE)) | O12: =IF(ISERROR($K12*$N12),"",$K12*$N12)
E13: =IF(ISNA(VLOOKUP($B13,Employees,3,FALSE)),"",VLOOKUP($B13,Employees,3,FALSE)) | F13: =IF(ISNA(VLOOKUP($B13,Employees,5,FALSE)),"",IF($D13="Overtime",VLOOKUP($B13,Employees,7,FALSE),VLOOKUP($B13,Employees,5,FALSE))) | G13: =IF(ISERROR(E13+F13),"",IF($D13="Overtime",($E13*$E$8)+$F13,$E13+$F13)) | H13: =IF(ISERROR($C13*$G13),"",$C13*$G13) | L13: =IF(ISNA(VLOOKUP($J13,FEMArates,2,FALSE)),"",VLOOKUP($J13,FEMArates,7,FALSE)) | M13: =IF(ISNA(VLOOKUP($J13,FEMArates,2,FALSE)),"",VLOOKUP($J13,FEMArates,2,FALSE)) | N13: =IF(ISNA(VLOOKUP($J13,FEMArates,8,FALSE)),"",VLOOKUP($J13,FEMArates,8,FALSE)) | O13: =IF(ISERROR($K13*$N13),"",$K13*$N13)
E14: =IF(ISNA(VLOOKUP($B14,Employees,3,FALSE)),"",VLOOKUP($B14,Employees,3,FALSE)) | F14: =IF(ISNA(VLOOKUP($B14,Employees,5,FALSE)),"",IF($D14="Overtime",VLOOKUP($B14,Employees,7,FALSE),VLOOKUP($B14,Employees,5,FALSE))) | G14: =IF(ISERROR(E14+F14),"",IF($D14="Overtime",($E14*$E$8)+$F14,$E14+$F14)) | H14: =IF(ISERROR($C14*$G14),"",$C14*$G14) | L14: =IF(ISNA(VLOOKUP($J14,FEMArates,2,FALSE)),"",VLOOKUP($J14,FEMArates,7,FALSE)) | M14: =IF(ISNA(VLOOKUP($J14,FEMArates,2,FALSE)),"",VLOOKUP($J14,FEMArates,2,FALSE)) | N14: =IF(ISNA(VLOOKUP($J14,FEMArates,8,FALSE)),"",VLOOKUP($J14,FEMArates,8,FALSE)) | O14: =IF(ISERROR($K14*$N14),"",$K14*$N14)
E15: =IF(ISNA(VLOOKUP($B15,Employees,3,FALSE)),"",VLOOKUP($B15,Employees,3,FALSE)) | F15: =IF(ISNA(VLOOKUP($B15,Employees,5,FALSE)),"",IF($D15="Overtime",VLOOKUP($B15,Employees,7,FALSE),VLOOKUP($B15,Employees,5,FALSE))) | G15: =IF(ISERROR(E15+F15),"",IF($D15="Overtime",($E15*$E$8)+$F15,$E15+$F15)) | H15: =IF(ISERROR($C15*$G15),"",$C15*$G15) | L15: =IF(ISNA(VLOOKUP($J15,FEMArates,2,FALSE)),"",VLOOKUP($J15,FEMArates,7,FALSE)) | M15: =IF(ISNA(VLOOKUP($J15,FEMArates,2,FALSE)),"",VLOOKUP($J15,FEMArates,2,FALSE)) | N15: =IF(ISNA(VLOOKUP($J15,FEMArates,8,FALSE)),"",VLOOKUP($J15,FEMArates,8,FALSE)) | O15: =IF(ISERROR($K15*$N15),"",$K15*$N15)
E16: =IF(ISNA(VLOOKUP($B16,Employees,3,FALSE)),"",VLOOKUP($B16,Employees,3,FALSE)) | F16: =IF(ISNA(VLOOKUP($B16,Employees,5,FALSE)),"",IF($D16="Overtime",VLOOKUP($B16,Employees,7,FALSE),VLOOKUP($B16,Employees,5,FALSE))) | G16: =IF(ISERROR(E16+F16),"",IF($D16="Overtime",($E16*$E$8)+$F16,$E16+$F16)) | H16: =IF(ISERROR($C16*$G16),"",$C16*$G16) | L16: =IF(ISNA(VLOOKUP($J16,FEMArates,2,FALSE)),"",VLOOKUP($J16,FEMArates,7,FALSE)) | M16: =IF(ISNA(VLOOKUP($J16,FEMArates,2,FALSE)),"",VLOOKUP($J16,FEMArates,2,FALSE)) | N16: =IF(ISNA(VLOOKUP($J16,FEMArates,8,FALSE)),"",VLOOKUP($J16,FEMArates,8,FALSE)) | O16: =IF(ISERROR($K16*$N16),"",$K16*$N16)
E17: =IF(ISNA(VLOOKUP($B17,Employees,3,FALSE)),"",VLOOKUP($B17,Employees,3,FALSE)) | F17: =IF(ISNA(VLOOKUP($B17,Employees,5,FALSE)),"",IF($D17="Overtime",VLOOKUP($B17,Employees,7,FALSE),VLOOKUP($B17,Employees,5,FALSE))) | G17: =IF(ISERROR(E17+F17),"",IF($D17="Overtime",($E17*$E$8)+$F17,$E17+$F17)) | H17: =IF(ISERROR($C17*$G17),"",$C17*$G17) | L17: =IF(ISNA(VLOOKUP($J17,FEMArates,2,FALSE)),"",VLOOKUP($J17,FEMArates,7,FALSE)) | M17: =IF(ISNA(VLOOKUP($J17,FEMArates,2,FALSE)),"",VLOOKUP($J17,FEMArates,2,FALSE)) | N17: =IF(ISNA(VLOOKUP($J17,FEMArates,8,FALSE)),"",VLOOKUP($J17,FEMArates,8,FALSE)) | O17: =IF(ISERROR($K17*$N17),"",$K17*$N17)
E18: =IF(ISNA(VLOOKUP($B18,Employees,3,FALSE)),"",VLOOKUP($B18,Employees,3,FALSE)) | F18: =IF(ISNA(VLOOKUP($B18,Employees,5,FALSE)),"",IF($D18="Overtime",VLOOKUP($B18,Employees,7,FALSE),VLOOKUP($B18,Employees,5,FALSE))) | G18: =IF(ISERROR(E18+F18),"",IF($D18="Overtime",($E18*$E$8)+$F18,$E18+$F18)) | H18: =IF(ISERROR($C18*$G18),"",$C18*$G18) | L18: =IF(ISNA(VLOOKUP($J18,FEMArates,2,FALSE)),"",VLOOKUP($J18,FEMArates,7,FALSE)) | M18: =IF(ISNA(VLOOKUP($J18,FEMArates,2,FALSE)),"",VLOOKUP($J18,FEMArates,2,FALSE)) | N18: =IF(ISNA(VLOOKUP($J18,FEMArates,8,FALSE)),"",VLOOKUP($J18,FEMArates,8,FALSE)) | O18: =IF(ISERROR($K18*$N18),"",$K18*$N18)
E19: =IF(ISNA(VLOOKUP($B19,Employees,3,FALSE)),"",VLOOKUP($B19,Employees,3,FALSE)) | F19: =IF(ISNA(VLOOKUP($B19,Employees,5,FALSE)),"",IF($D19="Overtime",VLOOKUP($B19,Employees,7,FALSE),VLOOKUP($B19,Employees,5,FALSE))) | G19: =IF(ISERROR(E19+F19),"",IF($D19="Overtime",($E19*$E$8)+$F19,$E19+$F19)) | H19: =IF(ISERROR($C19*$G19),"",$C19*$G19) | L19: =IF(ISNA(VLOOKUP($J19,FEMArates,2,FALSE)),"",VLOOKUP($J19,FEMArates,7,FALSE)) | M19: =IF(ISNA(VLOOKUP($J19,FEMArates,2,FALSE)),"",VLOOKUP($J19,FEMArates,2,FALSE)) | N19: =IF(ISNA(VLOOKUP($J19,FEMArates,8,FALSE)),"",VLOOKUP($J19,FEMArates,8,FALSE)) | O19: =IF(ISERROR($K19*$N19),"",$K19*$N19)
E20: =IF(ISNA(VLOOKUP($B20,Employees,3,FALSE)),"",VLOOKUP($B20,Employees,3,FALSE)) | F20: =IF(ISNA(VLOOKUP($B20,Employees,5,FALSE)),"",IF($D20="Overtime",VLOOKUP($B20,Employees,7,FALSE),VLOOKUP($B20,Employees,5,FALSE))) | G20: =IF(ISERROR(E20+F20),"",IF($D20="Overtime",($E20*$E$8)+$F20,$E20+$F20)) | H20: =IF(ISERROR($C20*$G20),"",$C20*$G20) | L20: =IF(ISNA(VLOOKUP($J20,FEMArates,2,FALSE)),"",VLOOKUP($J20,FEMArates,7,FALSE)) | M20: =IF(ISNA(VLOOKUP($J20,FEMArates,2,FALSE)),"",VLOOKUP($J20,FEMArates,2,FALSE)) | N20: =IF(ISNA(VLOOKUP($J20,FEMArates,8,FALSE)),"",VLOOKUP($J20,FEMArates,8,FALSE)) | O20: =IF(ISERROR($K20*$N20),"",$K20*$N20)
E21: =IF(ISNA(VLOOKUP($B21,Employees,3,FALSE)),"",VLOOKUP($B21,Employees,3,FALSE)) | F21: =IF(ISNA(VLOOKUP($B21,Employees,5,FALSE)),"",IF($D21="Overtime",VLOOKUP($B21,Employees,7,FALSE),VLOOKUP($B21,Employees,5,FALSE))) | G21: =IF(ISERROR(E21+F21),"",IF($D21="Overtime",($E21*$E$8)+$F21,$E21+$F21)) | H21: =IF(ISERROR($C21*$G21),"",$C21*$G21) | L21: =IF(ISNA(VLOOKUP($J21,FEMArates,2,FALSE)),"",VLOOKUP($J21,FEMArates,7,FALSE)) | M21: =IF(ISNA(VLOOKUP($J21,FEMArates,2,FALSE)),"",VLOOKUP($J21,FEMArates,2,FALSE)) | N21: =IF(ISNA(VLOOKUP($J21,FEMArates,8,FALSE)),"",VLOOKUP($J21,FEMArates,8,FALSE)) | O21: =IF(ISERROR($K21*$N21),"",$K21*$N21)
... E1000: =IF(ISNA(VLOOKUP($B1000,Employees,3,FALSE)),"",VLOOKUP($B1000,Employees,3,FALSE)) | F1000: =IF(ISNA(VLOOKUP($B1000,Employees,5,FALSE)),"",IF($D1000="Overtime",VLOOKUP($B1000,Employees,7,FALSE),VLOOKUP($B1000,Employees,5,FALSE))) | G1000: =IF(ISERROR(E1000+F1000),"",IF($D1000="Overtime",($E1000*$E$8)+$F1000,$E1000+$F1000)) | H1000: =IF(ISERROR($C1000*$G1000),"",$C1000*$G1000) | L1000: =IF(ISNA(VLOOKUP($J1000,FEMArates,2,FALSE)),"",VLOOKUP($J1000,FEMArates,7,FALSE)) | M1000: =IF(ISNA(VLOOKUP($J1000,FEMArates,2,FALSE)),"",VLOOKUP($J1000,FEMArates,2,FALSE)) | N1000: =IF(ISNA(VLOOKUP($J1000,FEMArates,8,FALSE)),"",VLOOKUP($J1000,FEMArates,8,FALSE)) | O1000: =IF(ISERROR($K1000*$N1000),"",$K1000*$N1000)

Sheet Sheet1
A1: 8010
A2: 8011
A3: 8012
A4: 8013
A5: 8014
A6: 8015
A7: 8016
A8: 8017
A9: 8040
A10: 8041
A11: 8050
A12: 8051
... A1714: 8945
A1715: 8068-1
A1716: 8068-2
A1717: 8183x
A1718: 8701-1
A1719: 8714-1

Sheet Materials
A1: =Summary!$A$1 -> Disaster XXXX
A2: =Summary!$A$2 -> Applicant Name
A3: =Summary!$A$3 -> PW YYYY
A4: Materials
D6: Total Materials Cost | F6: =SUM($F$8:$F$1000) -> 0
A7: Date | B7: Vendor | C7: Description | D7: Units | E7: Rate | F7: Total Cost
F8: =IF(ISERROR(1/($D8*$E8)),"",$D8*$E8)
F9: =IF(ISERROR(1/($D9*$E9)),"",$D9*$E9)
F10: =IF(ISERROR(1/($D10*$E10)),"",$D10*$E10)
F11: =IF(ISERROR(1/($D11*$E11)),"",$D11*$E11)
F12: =IF(ISERROR(1/($D12*$E12)),"",$D12*$E12)
F13: =IF(ISERROR(1/($D13*$E13)),"",$D13*$E13)
F14: =IF(ISERROR(1/($D14*$E14)),"",$D14*$E14)
F15: =IF(ISERROR(1/($D15*$E15)),"",$D15*$E15)
F16: =IF(ISERROR(1/($D16*$E16)),"",$D16*$E16)
F17: =IF(ISERROR(1/($D17*$E17)),"",$D17*$E17)
F18: =IF(ISERROR(1/($D18*$E18)),"",$D18*$E18)
F19: =IF(ISERROR(1/($D19*$E19)),"",$D19*$E19)
... F1000: =IF(ISERROR(1/($D1000*$E1000)),"",$D1000*$E1000)

Sheet Equipment Rental
A1: =Summary!$A$1 -> Disaster XXXX
A2: =Summary!$A$2 -> Applicant Name
A3: =Summary!$A$3 -> PW YYYY
A4: Equipment Rental
C6: Total Equipment Rental Cost | F6: =SUM($F$8:$F$1000) -> 0
A7: Date | B7: Vendor | C7: Description | D7: Units | E7: Rate | F7: Total Cost
F8: =IF(ISERROR(1/($D8*$E8)),"",$D8*$E8)
F9: =IF(ISERROR(1/($D9*$E9)),"",$D9*$E9)
F10: =IF(ISERROR(1/($D10*$E10)),"",$D10*$E10)
F11: =IF(ISERROR(1/($D11*$E11)),"",$D11*$E11)
F12: =IF(ISERROR(1/($D12*$E12)),"",$D12*$E12)
F13: =IF(ISERROR(1/($D13*$E13)),"",$D13*$E13)
F14: =IF(ISERROR(1/($D14*$E14)),"",$D14*$E14)
F15: =IF(ISERROR(1/($D15*$E15)),"",$D15*$E15)
F16: =IF(ISERROR(1/($D16*$E16)),"",$D16*$E16)
F17: =IF(ISERROR(1/($D17*$E17)),"",$D17*$E17)
F18: =IF(ISERROR(1/($D18*$E18)),"",$D18*$E18)
F19: =IF(ISERROR(1/($D19*$E19)),"",$D19*$E19)
... F1000: =IF(ISERROR(1/($D1000*$E1000)),"",$D1000*$E1000)

Sheet DAC
A1: =Summary!$A$1 -> Disaster XXXX
A2: =Summary!$A$2 -> Applicant Name
A3: =Summary!$A$3 -> PW YYYY
A4: Direct Administrative Costs
B6: Total DAC Hours | D6: =SUM($D8:$D$1000) -> 0 | H6: Total DAC | I6: =SUM($I8:I1000) -> 0
A7: Date | B7: Name | C7: Task | D7: Hours | E7: Title | F7: Base Rate | G7: Benefits | H7: Total Rate | I7: Gross
E8: =IF(ISNA(VLOOKUP($B8,Employees,2,FALSE)),"",VLOOKUP($B8,Employees,2,FALSE)) | F8: =IF(ISNA(VLOOKUP($B8,Employees,3,FALSE)),"",VLOOKUP($B8,Employees,3,FALSE)) | G8: =IF(ISNA(VLOOKUP($B8,Employees,4,FALSE)),"",VLOOKUP($B8,Employees,5,FALSE)) | H8: =IF(ISNA(VLOOKUP($B8,Employees,3,FALSE)),"",$F8+$G8) | I8: =IF(ISERROR($D8*$H8),"",$D8*$H8)
E9: =IF(ISNA(VLOOKUP($B9,Employees,2,FALSE)),"",VLOOKUP($B9,Employees,2,FALSE)) | F9: =IF(ISNA(VLOOKUP($B9,Employees,3,FALSE)),"",VLOOKUP($B9,Employees,3,FALSE)) | G9: =IF(ISNA(VLOOKUP($B9,Employees,4,FALSE)),"",VLOOKUP($B9,Employees,4,FALSE)) | H9: =IF(ISNA(VLOOKUP($B9,Employees,3,FALSE)),"",$F9+$G9) | I9: =IF(ISERROR($D9*$H9),"",$D9*$H9)
E10: =IF(ISNA(VLOOKUP($B10,Employees,2,FALSE)),"",VLOOKUP($B10,Employees,2,FALSE)) | F10: =IF(ISNA(VLOOKUP($B10,Employees,3,FALSE)),"",VLOOKUP($B10,Employees,3,FALSE)) | G10: =IF(ISNA(VLOOKUP($B10,Employees,4,FALSE)),"",VLOOKUP($B10,Employees,4,FALSE)) | H10: =IF(ISNA(VLOOKUP($B10,Employees,3,FALSE)),"",$F10+$G10) | I10: =IF(ISERROR($D10*$H10),"",$D10*$H10)
E11: =IF(ISNA(VLOOKUP($B11,Employees,2,FALSE)),"",VLOOKUP($B11,Employees,2,FALSE)) | F11: =IF(ISNA(VLOOKUP($B11,Employees,3,FALSE)),"",VLOOKUP($B11,Employees,3,FALSE)) | G11: =IF(ISNA(VLOOKUP($B11,Employees,4,FALSE)),"",VLOOKUP($B11,Employees,4,FALSE)) | H11: =IF(ISNA(VLOOKUP($B11,Employees,3,FALSE)),"",$F11+$G11) | I11: =IF(ISERROR($D11*$H11),"",$D11*$H11)
E12: =IF(ISNA(VLOOKUP($B12,Employees,2,FALSE)),"",VLOOKUP($B12,Employees,2,FALSE)) | F12: =IF(ISNA(VLOOKUP($B12,Employees,3,FALSE)),"",VLOOKUP($B12,Employees,3,FALSE)) | G12: =IF(ISNA(VLOOKUP($B12,Employees,4,FALSE)),"",VLOOKUP($B12,Employees,4,FALSE)) | H12: =IF(ISNA(VLOOKUP($B12,Employees,3,FALSE)),"",$F12+$G12) | I12: =IF(ISERROR($D12*$H12),"",$D12*$H12)
E13: =IF(ISNA(VLOOKUP($B13,Employees,2,FALSE)),"",VLOOKUP($B13,Employees,2,FALSE)) | F13: =IF(ISNA(VLOOKUP($B13,Employees,3,FALSE)),"",VLOOKUP($B13,Employees,3,FALSE)) | G13: =IF(ISNA(VLOOKUP($B13,Employees,4,FALSE)),"",VLOOKUP($B13,Employees,4,FALSE)) | H13: =IF(ISNA(VLOOKUP($B13,Employees,3,FALSE)),"",$F13+$G13) | I13: =IF(ISERROR($D13*$H13),"",$D13*$H13)
E14: =IF(ISNA(VLOOKUP($B14,Employees,2,FALSE)),"",VLOOKUP($B14,Employees,2,FALSE)) | F14: =IF(ISNA(VLOOKUP($B14,Employees,3,FALSE)),"",VLOOKUP($B14,Employees,3,FALSE)) | G14: =IF(ISNA(VLOOKUP($B14,Employees,4,FALSE)),"",VLOOKUP($B14,Employees,4,FALSE)) | H14: =IF(ISNA(VLOOKUP($B14,Employees,3,FALSE)),"",$F14+$G14) | I14: =IF(ISERROR($D14*$H14),"",$D14*$H14)
E15: =IF(ISNA(VLOOKUP($B15,Employees,2,FALSE)),"",VLOOKUP($B15,Employees,2,FALSE)) | F15: =IF(ISNA(VLOOKUP($B15,Employees,3,FALSE)),"",VLOOKUP($B15,Employees,3,FALSE)) | G15: =IF(ISNA(VLOOKUP($B15,Employees,4,FALSE)),"",VLOOKUP($B15,Employees,4,FALSE)) | H15: =IF(ISNA(VLOOKUP($B15,Employees,3,FALSE)),"",$F15+$G15) | I15: =IF(ISERROR($D15*$H15),"",$D15*$H15)
E16: =IF(ISNA(VLOOKUP($B16,Employees,2,FALSE)),"",VLOOKUP($B16,Employees,2,FALSE)) | F16: =IF(ISNA(VLOOKUP($B16,Employees,3,FALSE)),"",VLOOKUP($B16,Employees,3,FALSE)) | G16: =IF(ISNA(VLOOKUP($B16,Employees,4,FALSE)),"",VLOOKUP($B16,Employees,4,FALSE)) | H16: =IF(ISNA(VLOOKUP($B16,Employees,3,FALSE)),"",$F16+$G16) | I16: =IF(ISERROR($D16*$H16),"",$D16*$H16)
E17: =IF(ISNA(VLOOKUP($B17,Employees,2,FALSE)),"",VLOOKUP($B17,Employees,2,FALSE)) | F17: =IF(ISNA(VLOOKUP($B17,Employees,3,FALSE)),"",VLOOKUP($B17,Employees,3,FALSE)) | G17: =IF(ISNA(VLOOKUP($B17,Employees,4,FALSE)),"",VLOOKUP($B17,Employees,4,FALSE)) | H17: =IF(ISNA(VLOOKUP($B17,Employees,3,FALSE)),"",$F17+$G17) | I17: =IF(ISERROR($D17*$H17),"",$D17*$H17)
E18: =IF(ISNA(VLOOKUP($B18,Employees,2,FALSE)),"",VLOOKUP($B18,Employees,2,FALSE)) | F18: =IF(ISNA(VLOOKUP($B18,Employees,3,FALSE)),"",VLOOKUP($B18,Employees,3,FALSE)) | G18: =IF(ISNA(VLOOKUP($B18,Employees,4,FALSE)),"",VLOOKUP($B18,Employees,4,FALSE)) | H18: =IF(ISNA(VLOOKUP($B18,Employees,3,FALSE)),"",$F18+$G18) | I18: =IF(ISERROR($D18*$H18),"",$D18*$H18)
E19: =IF(ISNA(VLOOKUP($B19,Employees,2,FALSE)),"",VLOOKUP($B19,Employees,2,FALSE)) | F19: =IF(ISNA(VLOOKUP($B19,Employees,3,FALSE)),"",VLOOKUP($B19,Employees,3,FALSE)) | G19: =IF(ISNA(VLOOKUP($B19,Employees,4,FALSE)),"",VLOOKUP($B19,Employees,4,FALSE)) | H19: =IF(ISNA(VLOOKUP($B19,Employees,3,FALSE)),"",$F19+$G19) | I19: =IF(ISERROR($D19*$H19),"",$D19*$H19)
E20: =IF(ISNA(VLOOKUP($B20,Employees,2,FALSE)),"",VLOOKUP($B20,Employees,2,FALSE)) | F20: =IF(ISNA(VLOOKUP($B20,Employees,3,FALSE)),"",VLOOKUP($B20,Employees,3,FALSE)) | G20: =IF(ISNA(VLOOKUP($B20,Employees,4,FALSE)),"",VLOOKUP($B20,Employees,4,FALSE)) | H20: =IF(ISNA(VLOOKUP($B20,Employees,3,FALSE)),"",$F20+$G20) | I20: =IF(ISERROR($D20*$H20),"",$D20*$H20)
... E1000: =IF(ISNA(VLOOKUP($B1000,Employees,2,FALSE)),"",VLOOKUP($B1000,Employees,2,FALSE)) | F1000: =IF(ISNA(VLOOKUP($B1000,Employees,3,FALSE)),"",VLOOKUP($B1000,Employees,3,FALSE)) | G1000: =IF(ISNA(VLOOKUP($B1000,Employees,4,FALSE)),"",VLOOKUP($B1000,Employees,4,FALSE)) | H1000: =IF(ISNA(VLOOKUP($B1000,Employees,3,FALSE)),"",$F1000+$G1000) | I1000: =IF(ISERROR($D1000*$H1000),"",$D1000*$H1000)

Sheet Insurance
A1: =Summary!$A$1 -> Disaster XXXX
A2: =Summary!$A$2 -> Applicant Name
A3: =Summary!$A$3 -> PW YYYY
A4: Insurance
D6: Totals | E6: =SUM($E$8:$E$1000) -> 0 | F6: =SUM($F$8:$F$1000) -> 0 | G6: =SUM($G$8:$G$1000) -> 0
A7: Date | B7: Insurance Company | C7: Policy Number | D7: Description | E7: Deductible | F7: Proceeds | G7: Total Cost
G8: =IF(ISBLANK(AND($E8,$F8)),"",$E8-$F8) -> 0
G9: =IF(ISBLANK(AND($E9,$F9)),"",$E9-$F9) -> 0
G10: =IF(ISBLANK(AND($E10,$F10)),"",$E10-$F10) -> 0
G11: =IF(ISBLANK(AND($E11,$F11)),"",$E11-$F11) -> 0
G12: =IF(ISBLANK(AND($E12,$F12)),"",$E12-$F12) -> 0
G13: =IF(ISBLANK(AND($E13,$F13)),"",$E13-$F13) -> 0
G14: =IF(ISBLANK(AND($E14,$F14)),"",$E14-$F14) -> 0
G15: =IF(ISBLANK(AND($E15,$F15)),"",$E15-$F15) -> 0
G16: =IF(ISBLANK(AND($E16,$F16)),"",$E16-$F16) -> 0
G17: =IF(ISBLANK(AND($E17,$F17)),"",$E17-$F17) -> 0
G18: =IF(ISBLANK(AND($E18,$F18)),"",$E18-$F18) -> 0
G19: =IF(ISBLANK(AND($E19,$F19)),"",$E19-$F19) -> 0
... G1000: =IF(ISBLANK(AND($E1000,$F1000)),"",$E1000-$F1000) -> 0

Sheet 2010 FEMA Equip Rates
A1: 2010 FEMA Schedule of Equipment Rates
A2: Cost Code | B2: Equipment | C2: Specifications | D2: Capacity or Size | E2: HP | F2: Notes | G2: Unit | H2: 2010 Rates
A3: 8010 | B3: Air Compressor | C3: Air Delivery | D3: 41 cfm | E3: to 10 | F3: Hoses included. | G3: hour | H3: 1.5
A4: 8011 | B4: Air Compressor | C4: Air Delivery | D4: 103 cfm | E4: to 30 | F4: Hoses included. | G4: hour | H4: 7
A5: 8012 | B5: Air Compressor | C5: Air Delivery | D5: 130 cfm | E5: to 50 | F5: Hoses included. | G5: hour | H5: 9.25
A6: 8013 | B6: Air Compressor | C6: Air Delivery | D6: 175 cfm | E6: to 90 | F6: Hoses included. | G6: hour | H6: 20
A7: 8014 | B7: Air Compressor | C7: Air Delivery | D7: 400 cfm | E7: to 145 | F7: Hoses included. | G7: hour | H7: 27.5
A8: 8015 | B8: Air Compressor | C8: Air Delivery | D8: 575 cfm | E8: to 230 | F8: Hoses included. | G8: hour | H8: 45.5
A9: 8016 | B9: Air Compressor | C9: Air Delivery | D9: 1100 cfm | E9: to 355 | F9: Hoses included. | G9: hour | H9: 51
A10: 8017 | B10: Air Compressor | C10: Air Delivery | D10: 1600 cfm | E10: to 500 | F10: Hoses included. | G10: hour | H10: 80
A11: 8040 | B11: Ambulance | E11: to 150 | G11: hour | H11: 25.5
A12: 8041 | B12: Ambulance | E12: to 210 | G12: hour | H12: 32.5
A13: 8050 | B13: Board, Arrow | E13: to 8 | F13: Trailer Mounted. | G13: hour | H13: 3.15
A14: 8051 | B14: Board, Message | E14: to 5 | F14: Trailer Mounted. | G14: hour | H14: 8.5
A15: 8060 | B15: Auger, Portable | C15: Hole Diameter | D15: 16 in | E15: to 6 | G15: hour | H15: 1.3
A16: 8061 | B16: Auger, Portable | C16: Hole Diameter | D16: 18 in | E16: to 13 | G16: hour | H16: 3.5
A17: 8062 | B17: Auger, Tractor Mntd | C17: Max. Auger Diameter | D17: 36 in | E17: to 13 | F17: Includes digger, boom and mounting hardware. Add to Tractor rate for total rate. | G17: hour | H17: 1.3
A18: 8063 | B18: Auger, Truck Mntd | C18: Max. Auger Size | D18: 24 in | E18: to 100 | F18: Includes digger, boom and mounting hardware. Add to Truck rate for total rate. | G18: hour | H18: 29
A19: 8070 | B19: Automobile | E19: to 130 | F19: Transporting people. | G19: mile | H19: 0.5
A20: 8071 | B20: Automobile | E20: to 130 | F20: Transporting cargo. | G20: hour | H20: 13
A21: 8072 | B21: Automobile, Police | E21: to 250 | F21: Patrolling. | G21: mile | H21: 0.6
A22: 8073 | B22: Automobile, Police | E22: to 250 | F22: Stationary with engine running. | G22: hour | H22: 16.25
A23: 8075 | B23: Motorcycle, Police | G23: mile | H23: 0.35
A24: 8110 | B24: Barge, Deck | C24: Size | D24: 50'x35'x7.25' | G24: hour | H24: 34
A25: 8111 | B25: Barge, Deck | C25: Size | D25: 50'x35'x9' | G25: hour | H25: 49
A26: 8112 | B26: Barge, Deck | C26: Size | D26: 120'x45'x10' | G26: hour | H26: 60
A27: 8113 | B27: Barge, Deck | C27: Size | D27: 160'x45'x11' | G27: hour | H27: 75
A28: 8120 | B28: Boat, Tow | C28: Size | D28: 55'x20'x5' | E28: to 870 | F28: Steel. | G28: hour | H28: 250
A29: 8121 | B29: Boat, Tow | C29: Size | D29: 60'x21'x5' | E29: to 1050 | F29: Steel. | G29: hour | H29: 300
A30: 8122 | B30: Boat, Tow | C30: Size | D30: 70'x30'x7.5' | E30: to 1350 | F30: Steel. | G30: hour | H30: 450
A31: 8123 | B31: Boat, Tow | C31: Size | D31: 120'x34'x8' | E31: to 2000 | F31: Steel. | G31: hour | H31: 830
A32: 8130 | B32: Boat, Row | F32: Heavy duty. | G32: hour | H32: 0.85
A33: 8131 | B33: Boat, Runabout | C33: Size | D33: 13'x5' | E33: to 50 | F33: Outboard. | G33: hour | H33: 14
A34: 8132 | B34: Boat, Tender | C34: Size | D34: 14'x7' | E34: to 100 | F34: Inboard with 360 degree drive. | G34: hour | H34: 26
A35: 8133 | B35: Boat, Push | C35: Size | D35: 45'x21'x6' | E35: to 435 | F35: Flat hull. | G35: hour | H35: 150
A36: 8134 | B36: Boat, Push | C36: Size | D36: 54'x21'x6' | E36: to 525 | F36: Flat hull. | G36: hour | H36: 200
A37: 8135 | B37: Boat, Push | C37: Size | D37: 58'x24'x7.5' | E37: to 705 | F37: Flat hull. | G37: hour | H37: 250
A38: 8136 | B38: Boat, Push | C38: Size | D38: 64'x25'x8' | E38: to 870 | F38: Flat hull. | G38: hour | H38: 300
A39: 8140 | B39: Boat, Tug | C39: Length | D39: 16 ft | E39: to 100 | G39: hour | H39: 33.5
A40: 8141 | B40: Boat, Tug | C40: Length | D40: 18 ft | E40: to 175 | G40: hour | H40: 53
...

Sheet 2015 FEMA Equip Rates
A1: 2015 FEMA Schedule of Equipment Rates
A2: Cost Code | B2: Equipment | C2: Specifications | D2: Capacity or Size | E2: HP | F2: Notes | G2: Unit | H2: 2015 Rates
A3: 8010 | B3: Air Compressor | C3: Air Delivery | D3: 41 CFM | E3: to 10 | F3: Hoses included. | G3: hour | H3: 1.25
A4: 8011 | B4: Air Compressor | C4: Air Delivery | D4: 103 CFM | E4: to 30 | F4: Hoses included. | G4: hour | H4: 9
A5: 8012 | B5: Air Compressor | C5: Air Delivery | D5: 130 CFM | E5: to 50 | F5: Hoses included. | G5: hour | H5: 11.25
A6: 8013 | B6: Air Compressor | C6: Air Delivery | D6: 175 CFM | E6: to 90 | F6: Hoses included. | G6: hour | H6: 24
A7: 8014 | B7: Air Compressor | C7: Air Delivery | D7: 400 CFM | E7: to 145 | F7: Hoses included. | G7: hour | H7: 34
A8: 8015 | B8: Air Compressor | C8: Air Delivery | D8: 575 CFM | E8: to 230 | F8: Hoses included. | G8: hour | H8: 57
A9: 8016 | B9: Air Compressor | C9: Air Delivery | D9: 1,100 CFM | E9: to 355 | F9: Hoses included. | G9: hour | H9: 58.5
A10: 8017 | B10: Air Compressor | C10: Air Delivery | D10: 1,600 CFM | E10: to 500 | F10: Hoses included. | G10: hour | H10: 98
A11: 8040 | B11: Ambulance | C11: - | D11: - | E11: to 150 | F11: - | G11: hour | H11: 32.75
A12: 8041 | B12: Ambulance | C12: - | D12: - | E12: to 210 | F12: - | G12: hour | H12: 41.5
A13: 8050 | B13: Board, Arrow | C13: - | D13: - | E13: to 8 | F13: Trailer Mounted. | G13: hour | H13: 3.5
A14: 8051 | B14: Board, Message | C14: - | D14: - | E14: to 5 | F14: Trailer Mounted. | G14: hour | H14: 8.75
... A47: 8123 | B47: Boat, Tow | C47: Size | D47: 120'x34'x 8' | E47: to 2000 | F47: Steel. | G47: hour | H47: 1014
A48: 8124 | B48: Airboat | C48: 815AGIS Airboat w/spray unit | D48: 15'x8' | E48: 400 | F48: - | G48: hour | H48: 65
A49: 8125 | B49: Airboat | C49: 815AGIS Airboat w/spray unit | D49: 15'x8' | E49: 425 | F49: - | G49: hour | H49: 70
A50: 8126 | B50: Swamp Buggy | C50: 2007 FASTENAL Swamp Buggy | D50: - | E50: 360 | F50: - | G50: hour | H50: 95
A51: 8129 | B51: Compactor -2-Ton Pavement Roller | C51: 2 ton | D51: - | E51: - | F51: - | G51: hour | H51: 17.5
A52: 8130 | B52: Boat, Row | C52: - | D52: - | E52: - | F52: Heavy duty. | G52: hour | H52: 1
A53: 8131 | B53: Boat, Runabout | C53: Size | D53: 13'x5' | E53: to 50 | F53: Outboard. | G53: hour | H53: 16
A54: 8132 | B54: Boat, Tender | C54: Size | D54: 14'x7' | E54: to 100 | F54: Inboard with 360 degree drive. | G54: hour | H54: 26.5
A55: 8133 | B55: Boat, Push | C55: Size | D55: 45'x21'x6' | E55: to 435 | F55: Flat hull. | G55: hour | H55: 134.25
A56: 8134 | B56: Boat, Push | C56: Size | D56: 54'x21'x6' | E56: to 525 | F56: Flat hull. | G56: hour | H56: 202
A57: 8135 | B57: Boat, Push | C57: Size | D57: 58'x24'x7. 5' | E57: to 705 | F57: Flat hull. | G57: hour | H57: 305
A58: 8136 | B58: Boat, Push | C58: Size | D58: 64'x25'x8' | E58: to 870 | F58: Flat hull. | G58: hour | H58: 348.75
A59: 8140 | B59: Boat, Tug | C59: Length | D59: 16 Ft | E59: to 100 | F59: - | G59: hour | H59: 33.25
A60: 8141 | B60: Boat, Tug | C60: Length | D60: 18 Ft | E60: to 175 | F60: - | G60: hour | H60: 56.5
A61: 8142 | B61: Boat, Tug | C61: Length | D61: 26 Ft | E61: to 250 | F61: - | G61: hour | H61: 77.5
A62: 8143 | B62: Boat, Tug | C62: Length | D62: 40 Ft | E62: to 380 | F62: - | G62: hour | H62: 187.35
... A65: 8148 | B65: Boat, Runabout | C65: 1544 lbs | D65: 11 passenger capacity | E65: 190-250 | F65: - | G65: hour | H65: 68.45
A66: 8149 | B66: Boat, removable engine | C66: 2000 Johnson Outboard Motor w 15" shaft | D66: - | E66: 15 | F66: - | G66: hour | H66: 3.17
A67: 8150 | B67: Broom, Pavement | C67: Broom Length | D67: 72 In | E67: to 35 | F67: - | G67: hour | H67: 14.5
A68: 8151 | B68: Broom, Pavement | C68: Broom Length | D68: 96 In | E68: to 100 | F68: - | G68: hour | H68: 22
A69: 8153 | B69: Broom, Pavement, Mntd | C69: Broom Length | D69: 72 In | E69: to 18 | F69: Add Prime Mover cost for total rate | G69: hour | H69: 6.5
A70: 8154 | B70: Broom, Pavement, Pull | C70: Broom Length | D70: 84 In | E70: to 20 | F70: Add Prime Mover cost for total rate | G70: hour | H70: 11
A71: 8157 | B71: Sweeper, Pavement | C71: - | D71: - | E71: to 110 | F71: - | G71: hour | H71: 54
A72: 8158 | B72: Sweeper, Pavement | C72: - | D72: - | E72: to 230 | F72: - | G72: hour | H72: 83
A73: 8180 | B73: Bus | C73: - | D73: - | E73: to 150 | F73: - | G73: hour | H73: 21.75
A74: 8181 | B74: Bus | C74: - | D74: - | E74: to 210 | F74: - | G74: hour | H74: 27.5
...

Sheet 2017 FEMA Equip Rates
A1: 2017 FEMA Schedule of Equipment Rates
A2: Cost Code | B2: Equipment | C2: Specifications | D2: Capacity or Size | E2: HP | F2: Notes | G2: Unit | H2: 2017 Rate
A3: 8010 | B3: Air Compressor | C3: Air Delivery | D3: 41 CFM | E3: to 10 | F3: Hoses included. | G3: hour | H3: 1.51
A4: 8011 | B4: Air Compressor | C4: Air Delivery | D4: 103 CFM | E4: to 30 | F4: Hoses included. | G4: hour | H4: 8.84
A5: 8012 | B5: Air Compressor | C5: Air Delivery | D5: 130 CFM | E5: to 50 | F5: Hoses included. | G5: hour | H5: 11.14
A6: 8013 | B6: Air Compressor | C6: Air Delivery | D6: 175 CFM | E6: to 90 | F6: Hoses included. | G6: hour | H6: 18.39
A7: 8014 | B7: Air Compressor | C7: Air Delivery | D7: 400 CFM | E7: to 145 | F7: Hoses included. | G7: hour | H7: 30.47
A8: 8015 | B8: Air Compressor | C8: Air Delivery | D8: 575 CFM | E8: to 230 | F8: Hoses included. | G8: hour | H8: 48.71
A9: 8016 | B9: Air Compressor | C9: Air Delivery | D9: 1100 CFM | E9: to 355 | F9: Hoses included. | G9: hour | H9: 92.88
A10: 8017 | B10: Air Compressor | C10: Air Delivery | D10: 1600 CFM | E10: to 500 | F10: Hoses included. | G10: hour | H10: 96.96
A11: 8040 | B11: Ambulance | E11: to 150 | G11: hour | H11: 28
A12: 8041 | B12: Ambulance | E12: to 210 | G12: hour | H12: 40.5
A13: 8050 | B13: Board, Arrow | E13: to 8 | F13: Trailer Mounted. | G13: hour | H13: 4.43
A14: 8051 | B14: Board, Message | E14: to 5 | F14: Trailer Mounted. | G14: hour | H14: 11.61
A15: 8060 | B15: Auger, Portable | C15: Hole Diameter | D15: 16 In | E15: to 6 | G15: hour | H15: 2.14
A16: 8061 | B16: Auger, Portable | C16: Hole Diameter | D16: 18 In | E16: to 13 | G16: hour | H16: 4.3
A17: 8062 | B17: Auger, Tractor Mntd | C17: Max. Auger Diameter | D17: 36 In | E17: to 13 | F17: Includes digger, boom and mounting hardware. | G17: hour | H17: 3.16
A18: 8063 | B18: Auger, Truck Mntd | C18: Max. Auger Size | D18: 24 In | E18: to 100 | F18: mounting hardware. Add this rate to tractor rate for total | G18: hour | H18: 34.28
A19: 8064 | B19: Hydraulic Post Driver | G19: hour | H19: 35.1
A20: 8065 | B20: Auger | C20: Horizontal Directional Boring Machine | D20: 250 X 100 | E20: 300 | F20: DD-140B YR-2003 | G20: hour | H20: 169.4
A21: 8066 | B21: Auger | C21: Horizontal Directional Boring Machine | D21: 50 X 100 | G21: hour | H21: 31.95
A22: 8067 | B22: Auger, Directional Boring Machine | C22: Auger, Directional Boring Machine | G22: hour | H22: 36.97
A23: 8070 | B23: Automobile | E23: to 130 | F23: Transporting people. | G23: mile | H23: 0.535
A24: 8071 | B24: Automobile | E24: to 130 | F24: Transporting cargo. | G24: hour | H24: 12.32
A25: 8072 | B25: Automobile, Police | E25: to 250 | F25: Patrolling. | G25: mile | H25: 0.535
A26: 8073 | B26: Automobile, Police | E26: to 250 | F26: Stationary with engine running. | G26: hour | H26: 15.69
A27: 8075 | B27: Motorcycle, Police | G27: mile | H27: 0.505
A28: 8076 | B28: Automibile - Chevy Trailblazer | C28: 6 or 8 cl | E28: 285 to 300 | G28: hour | H28: 22
A29: 8077 | B29: Automobile - Ford Expedition | C29: Fire Command Center | G29: hour | H29: 19
A30: 8080 | B30: All Terrain Vehicle (ATV) | C30: Engine 110cc, 4-Wheel; 20" tyre | E30: 6.5-7.5 | G30: hour | H30: 8.2
A31: 8081 | B31: All Terrain Vehicle (ATV) | C31: Engine 125cc, 4-Wheel; 21" tyre | E31: 7.6-8.6 | G31: hour | H31: 8.5
A32: 8082 | B32: All Terrain Vehicle (ATV) | C32: Engine 150cc, 4-Wheel; 22" tyre | E32: 9.0-10.0 | G32: hour | H32: 8.51
A33: 8083 | B33: All Terrain Vehicle (ATV) | C33: Engine 200cc, 4-Wheel; 24" tyre | E33: 12-14.0 | G33: hour | H33: 9
A34: 8084 | B34: All Terrain Vehicle (ATV) | C34: Engine 250cc, 4-Wheel; 24" tyre | E34: 15-17 | G34: hour | H34: 9.4
A35: 8085 | B35: All Terrain Vehicle (ATV) | C35: Engine 300cc, 4-Wheel; 24" tyre | E35: 18-20 | G35: hour | H35: 10.2
A36: 8086 | B36: All Terrain Vehicle (ATV) | C36: Engine 400cc. 4-Wheel; 25" tyre | E36: 26-28 | G36: hour | H36: 11.64
A37: 8087 | B37: All Terrain Vehicle (ATV) | C37: Engine 450cc, 4-Wheel; 25" tyre | E37: 26-28 | G37: hour | H37: 12.4
A38: 8088 | B38: All Terrain Vehicle (ATV) | C38: Engine 650cc, 4-Wheel; 25" tyre | E38: 38-40 | G38: hour | H38: 13.2
A39: 8089 | B39: All Terrain Vehicle (ATV) | C39: Engine 750cc, 4-Wheel; 25" tyre | E39: 44-46 | G39: hour | H39: 14
A40: 8110 | B40: Barge, Deck | C40: Size | D40: 50'x35'x7.25' | G40: hour | H40: 49.1
...

Sheet 2019 FEMA Equip Rates
A1: FEMA Code ID | C1: Equipment Description
A2: Cost Code | B2: Equipment | C2: Specifications | D2: Capacity or Size | E2: HP | F2: Notes | G2: Unit | H2: 2019 Updated Rate
A3: 8010 | B3: Air Compressor | C3: Air Delivery | D3: 41 CFM | E3: to 10 | F3: Hoses included. | G3: hour | H3: 1.62
A4: 8011 | B4: Air Compressor | C4: Air Delivery | D4: 103 CFM | E4: to 30 | F4: Hoses included. | G4: hour | H4: 9.86
A5: 8012 | B5: Air Compressor | C5: Air Delivery | D5: 130 CFM | E5: to 50 | F5: Hoses included. | G5: hour | H5: 12.49
A6: 8013 | B6: Air Compressor | C6: Air Delivery | D6: 175 CFM | E6: to 90 | F6: Hoses included. | G6: hour | H6: 20.98
A7: 8014 | B7: Air Compressor | C7: Air Delivery | D7: 400 CFM | E7: to 145 | F7: Hoses included. | G7: hour | H7: 32.13
A8: 8015 | B8: Air Compressor | C8: Air Delivery | D8: 575 CFM | E8: to 230 | F8: Hoses included. | G8: hour | H8: 57.05
A9: 8016 | B9: Air Compressor | C9: Air Delivery | D9: 1100 CFM | E9: to 355 | F9: Hoses included. | G9: hour | H9: 95.6
A10: 8017 | B10: Air Compressor | C10: Air Delivery | D10: 1600 CFM | E10: to 500 | F10: Hoses included. | G10: hour | H10: 98.55
A11: 8040 | B11: Ambulance | E11: to 150 | G11: hour | H11: 28.09
A12: 8041 | B12: Ambulance | E12: to 210 | G12: hour | H12: 41.18
A13: 8050 | B13: Board, Arrow | E13: to 8 | F13: Trailer Mounted. | G13: hour | H13: 4.53
A14: 8051 | B14: Board, Message | E14: to 5 | F14: Trailer Mounted. | G14: hour | H14: 11.6
A15: 8060 | B15: Auger, Portable | C15: Hole Diameter | D15: 16 In | E15: to 6 | G15: hour | H15: 2.34
A16: 8061 | B16: Auger, Portable | C16: Hole Diameter | D16: 18 In | E16: to 13 | G16: hour | H16: 4.65
A17: 8062 | B17: Auger, Tractor Mntd | C17: Max. Auger Diameter | D17: 36 In | E17: to 13 | F17: Includes digger, boom and mounting hardware. | G17: hour | H17: 3.25
A18: 8063 | B18: Auger, Truck Mntd | C18: Max. Auger Size | D18: 24 In | E18: to 100 | F18: Includes digger, boom and mounting hardware. Add this rate to tractor rate for total auger and tractor rate. | G18: hour | H18: 34.93
A19: 8064 | B19: Hydraulic Post Driver | G19: hour | H19: 35.27
A20: 8065 | B20: Auger | C20: Horizontal Directional Boring Machine | D20: 250 X 100 | E20: 300 | F20: DD-140B YR-2003 | G20: hour | H20: 172.29
A21: 8066 | B21: Auger | C21: Horizontal Directional Boring Machine | D21: 50 X 100 | E21: 24 | F21: Average to 7,000 lbs | G21: hour | H21: 33.83
A22: 8067 | B22: Auger, Directional Boring Machine | C22: Auger, Directional Boring Machine | D22: 7,000 - 10,000 lbs | E22: 45 | F22: JT920L (2013) | G22: hour | H22: 41.04
A23: 8068 | B23: Bush Hog | C23: Bush Hog - Model 326 | D23: Single Spindle Rotary Cutters | G23: hour | H23: 20.61
A24: 8070 | B24: Automobile | E24: to 130 | F24: Transporting people. | G24: mile | H24: 0.545
A25: 8071 | B25: Automobile | E25: to 130 | F25: Transporting cargo. | G25: hour | H25: 12.43
A26: 8072 | B26: Automobile, Police | E26: to 250 | F26: Patrolling. | G26: mile | H26: 0.545
A27: 8073 | B27: Automobile, Police | E27: to 250 | F27: Stationary with engine running. | G27: hour | H27: 16.05
A28: 8075 | B28: Motorcycle, Police | G28: mile | H28: 0.505
A29: 8076 | B29: Automibile - Chevy Trailblazer | C29: 6 or 8 cl | E29: 285 to 300 | G29: hour | H29: 23.99
A30: 8077 | B30: Automobile - Ford Expedition | C30: Fire Command Center | D30: EcoBoost V-6 | E30: 360 | F30: 2015 Model | G30: hour | H30: 19.62
A31: 8078 | B31: MRAP Armored Rescue Vehicle | C31: Search and Rescue | D31: Military Suplus Vehicle | E31: 375-450 | F31: Qualified foe operational rate on | G31: Hr. | H31: 51.8
A32: 8079 | B32: MRAP C-MTV | C32: Multi-Theater (Military Surplus)Vehicle | D32: gvwr 55000 Lbs | E32: to 350 | F32: Qualified foe operational rate on | G32: Hr. | H32: 48.35
A33: 8080 | B33: All Terrain Vehicle (ATV) | C33: Engine 110cc, 4-Wheel; 20" tyre | E33: 6.5-7.5 | G33: hour | H33: 8.23
A34: 8081 | B34: All Terrain Vehicle (ATV) | C34: Engine 125cc, 4-Wheel; 21" tyre | E34: 7.6-8.6 | G34: hour | H34: 8.67
A35: 8082 | B35: All Terrain Vehicle (ATV) | C35: Engine 150cc, 4-Wheel; 22" tyre | E35: 9.0-10.0 | G35: hour | H35: 8.68
A36: 8083 | B36: All Terrain Vehicle (ATV) | C36: Engine 200cc, 4-Wheel; 24" tyre | E36: 12-14.0 | G36: hour | H36: 9.23
A37: 8084 | B37: All Terrain Vehicle (ATV) | C37: Engine 250cc, 4-Wheel; 24" tyre | E37: 15-17 | G37: hour | H37: 9.81
A38: 8085 | B38: All Terrain Vehicle (ATV) | C38: Engine 300cc, 4-Wheel; 24" tyre | E38: 18-20 | G38: hour | H38: 10.66
A39: 8086 | B39: All Terrain Vehicle (ATV) | C39: Engine 400cc. 4-Wheel; 25" tyre | E39: 26-28 | G39: hour | H39: 12.2
A40: 8087 | B40: All Terrain Vehicle (ATV) | C40: Engine 450cc, 4-Wheel; 25" tyre | E40: 26-28 | G40: hour | H40: 13.07
...
